BEGIN:VCALENDAR
VERSION:2.0
PRODID:-//MSF//ICS Creation//DE
METHOD:PUBLISH
BEGIN:VEVENT
DTSTART;TZID=Europe/Berlin:20260312T150000
DTEND;TZID=Europe/Berlin:20260312T180000
LOCATION:Sigmund-Riefler-Bogen 3 81829 München
SUMMARY:Drink & Meet bei ClassiCon
END:VEVENT
END:VCALENDAR
