BEGIN:VCALENDAR
VERSION:2.0
PRODID:-//MSF//ICS Creation//DE
METHOD:PUBLISH
BEGIN:VEVENT
DTSTART;TZID=Europe/Berlin:20260313T150000
DTEND;TZID=Europe/Berlin:20260313T170000
LOCATION:Nymphenburger Str. 5  80335 München
SUMMARY:BORA Live Cooking Experience bei Boffi | DePadova 
END:VEVENT
END:VCALENDAR
