BEGIN:VCALENDAR
VERSION:2.0
PRODID:-//MSF//ICS Creation//DE
METHOD:PUBLISH
BEGIN:VEVENT
DTSTART;TZID=Europe/Berlin:20260312T110000
DTEND;TZID=Europe/Berlin:20260312T120000
LOCATION:Nymphenburger Str. 5  80335 München
SUMMARY:Boffi | DePadova: Exklusive Produktpräsentation der ADL Türen und Trennwandsysteme mit Live Cooking
END:VEVENT
END:VCALENDAR
