BEGIN:VCALENDAR
VERSION:2.0
PRODID:-//MSF//ICS Creation//DE
METHOD:PUBLISH
BEGIN:VEVENT
DTSTART;TZID=Europe/Berlin:20260314T140000
DTEND;TZID=Europe/Berlin:20260314T153000
LOCATION:Sendlinger Str. 8 80331 München
SUMMARY:RH - Exklusive Galerie Tour
END:VEVENT
END:VCALENDAR
