BEGIN:VCALENDAR
VERSION:2.0
PRODID:-//MSF//ICS Creation//DE
METHOD:PUBLISH
BEGIN:VEVENT
DTSTART;TZID=Europe/Berlin:20260314T120000
DTEND;TZID=Europe/Berlin:20260314T133000
LOCATION:Maximiliansplatz 12 80333 München
SUMMARY:Designtalk bei next125: Kuratierte Anarchie mit Werner Aisslinger
END:VEVENT
END:VCALENDAR
