BEGIN:VCALENDAR
VERSION:2.0
PRODID:-//MSF//ICS Creation//DE
METHOD:PUBLISH
BEGIN:VEVENT
DTSTART;TZID=Europe/Berlin:20260313T180000
DTEND;TZID=Europe/Berlin:20260313T220000
LOCATION:Osterwaldstraße 89 80805 München
SUMMARY:Exklusives Event cc-tapis x Dedar by Stephanie Thatenhorst
END:VEVENT
END:VCALENDAR
