BEGIN:VCALENDAR
VERSION:2.0
PRODID:-//MSF//ICS Creation//DE
METHOD:PUBLISH
BEGIN:VEVENT
DTSTART;TZID=Europe/Berlin:20260312T103000
DTEND;TZID=Europe/Berlin:20260312T113000
LOCATION:Ottostrasse 5 80333 München
SUMMARY:Meet & Greet mit Tricia Guild, Gründerin von Designers Guild
END:VEVENT
END:VCALENDAR
