BEGIN:VCALENDAR
VERSION:2.0
PRODID:-//MSF//ICS Creation//DE
METHOD:PUBLISH
BEGIN:VEVENT
DTSTART;TZID=Europe/Berlin:20260313T180000
DTEND;TZID=Europe/Berlin:20260313T200000
LOCATION:Ismaninger Str. 3 81675 München
SUMMARY:C&C Milano Happy Hour ab 18h
END:VEVENT
END:VCALENDAR
