BEGIN:VCALENDAR
VERSION:2.0
PRODID:-//MSF//ICS Creation//DE
METHOD:PUBLISH
BEGIN:VEVENT
DTSTART;TZID=Europe/Berlin:20260312T120000
DTEND;TZID=Europe/Berlin:20260312T180000
LOCATION:Gabelsbergerstraße 9 80333 München
SUMMARY:Vorstellung der neuen Kollektion durch Camilla D. Fischbacher
END:VEVENT
END:VCALENDAR
