BEGIN:VCALENDAR
VERSION:2.0
PRODID:-//MSF//ICS Creation//DE
METHOD:PUBLISH
BEGIN:VEVENT
DTSTART;TZID=Europe/Berlin:20260312T090000
DTEND;TZID=Europe/Berlin:20260312T100000
LOCATION:
SUMMARY:Munich Design Days Opening-Presse-Frühstück
END:VEVENT
END:VCALENDAR
