BEGIN:VCALENDAR
VERSION:2.0
PRODID:-//MSF//ICS Creation//DE
METHOD:PUBLISH
BEGIN:VEVENT
DTSTART;TZID=Europe/Berlin:20260312T130000
DTEND;TZID=Europe/Berlin:20260312T133000
LOCATION:Prinzregentenplatz 23 81675 München
SUMMARY:Sanderson Design Group Presse-Event: Light Lunch
END:VEVENT
END:VCALENDAR
