BEGIN:VCALENDAR
VERSION:2.0
PRODID:-//MSF//ICS Creation//DE
METHOD:PUBLISH
BEGIN:VEVENT
DTSTART;TZID=Europe/Berlin:20260313T180000
DTEND;TZID=Europe/Berlin:20260313T210000
LOCATION:Unterer Anger 3 80331 München
SUMMARY:Bayerischer Abend bei JAB
END:VEVENT
END:VCALENDAR
