BEGIN:VCALENDAR
VERSION:2.0
PRODID:-//MSF//ICS Creation//DE
METHOD:PUBLISH
BEGIN:VEVENT
DTSTART;TZID=Europe/Berlin:20260312T140000
DTEND;TZID=Europe/Berlin:20260312T153000
LOCATION:Prinzregentenplatz 23 81675 München
SUMMARY:Organoid Presse-Event: Tiroler Geselligkeit mit CEO Christoph Egger
END:VEVENT
END:VCALENDAR
