BEGIN:VCALENDAR
VERSION:2.0
PRODID:-//MSF//ICS Creation//DE
METHOD:PUBLISH
BEGIN:VEVENT
DTSTART;TZID=Europe/Berlin:20260313T170000
DTEND;TZID=Europe/Berlin:20260313T183000
LOCATION:Theresienstrasse 23 80333 München
SUMMARY:Rubelli Presse-Aperitivo
END:VEVENT
END:VCALENDAR
