BEGIN:VCALENDAR
VERSION:2.0
PRODID:-//MSF//ICS Creation//DE
METHOD:PUBLISH
BEGIN:VEVENT
DTSTART;TZID=Europe/Berlin:20260313T103000
DTEND;TZID=Europe/Berlin:20260313T113000
LOCATION:Westenriederstr. 47 80331 München
SUMMARY:Little Greene Presse-Frühstück mit Ruth Mottershead, Creative Director
END:VEVENT
END:VCALENDAR
