BEGIN:VCALENDAR
VERSION:2.0
PRODID:-//MSF//ICS Creation//DE
METHOD:PUBLISH
BEGIN:VEVENT
DTSTART;TZID=Europe/Berlin:20260312T183000
DTEND;TZID=Europe/Berlin:20260312T200000
LOCATION:
SUMMARY:MSF DESIGNTALK: Die Kraft der Farbe
END:VEVENT
END:VCALENDAR
