BEGIN:VCALENDAR
VERSION:2.0
PRODID:-//MSF//ICS Creation//DE
METHOD:PUBLISH
BEGIN:VEVENT
DTSTART;TZID=Europe/Berlin:20260311T180000
DTEND;TZID=Europe/Berlin:20260311T220000
LOCATION:
SUMMARY:WARTELISTE: Abendgespräch: Kreativität und KI
END:VEVENT
END:VCALENDAR
